BEGIN:VCALENDAR
VERSION:2.0
PRODID:-//VHPANJ - ECPv6.2.9//NONSGML v1.0//EN
CALSCALE:GREGORIAN
METHOD:PUBLISH
X-ORIGINAL-URL:https://nj.vhp-america.org
X-WR-CALDESC:Events for VHPANJ
REFRESH-INTERVAL;VALUE=DURATION:PT1H
X-Robots-Tag:noindex
X-PUBLISHED-TTL:PT1H
BEGIN:VTIMEZONE
TZID:UTC
BEGIN:STANDARD
TZOFFSETFROM:+0000
TZOFFSETTO:+0000
TZNAME:UTC
DTSTART:20240101T000000
END:STANDARD
END:VTIMEZONE
BEGIN:VEVENT
DTSTART;TZID=UTC:20240316T080000
DTEND;TZID=UTC:20240316T170000
DTSTAMP:20260421T050846
CREATED:20240115T013100Z
LAST-MODIFIED:20240115T013734Z
UID:855-1710576000-1710608400@nj.vhp-america.org
SUMMARY:Grand Maha Shivratri Puja By Vishwa Hindu Parishad of America 2024
DESCRIPTION:Keeping up with our annual tradition of Maha Shivratri Puja\, The New Jersey chapter of the Vishwa Hindu Parishad of America (VHPA) announces a Maha Shivratri Puja to be held on March 16th\, 2024.  \n \nOPEN to ALL community members and completely free for everyone. Details on location and exact timings are to be published soon. \nStay connected with the VHPA NJ chapter for more information.
URL:https://nj.vhp-america.org/event/grand-maha-shivratri-puja-by-vishwa-hindu-parishad-of-america-2024/
ORGANIZER;CN="VHPANJ":MAILTO:contact@VHPANJ.org
END:VEVENT
END:VCALENDAR