BEGIN:VCALENDAR
VERSION:2.0
PRODID:-//VHPANJ - ECPv6.2.9//NONSGML v1.0//EN
CALSCALE:GREGORIAN
METHOD:PUBLISH
X-WR-CALNAME:VHPANJ
X-ORIGINAL-URL:https://nj.vhp-america.org
X-WR-CALDESC:Events for VHPANJ
REFRESH-INTERVAL;VALUE=DURATION:PT1H
X-Robots-Tag:noindex
X-PUBLISHED-TTL:PT1H
BEGIN:VTIMEZONE
TZID:UTC
BEGIN:STANDARD
TZOFFSETFROM:+0000
TZOFFSETTO:+0000
TZNAME:UTC
DTSTART:20230101T000000
END:STANDARD
END:VTIMEZONE
BEGIN:VEVENT
DTSTART;TZID=UTC:20231028T120000
DTEND;TZID=UTC:20231028T160000
DTSTAMP:20260421T123609
CREATED:20231101T063547Z
LAST-MODIFIED:20231101T070110Z
UID:643-1698494400-1698508800@nj.vhp-america.org
SUMMARY:5th Annual Hindu Heritage Day
DESCRIPTION:The Program\nAfter a hiatus of nearly four years due to the Covid-19 pandemic\, the New Jersey chapter of the Vishwa Hindu Parishad of America (VHPA) will hold their 5th Annual Hindu Heritage Day on Saturday\, October 28\, 2023 from 12:00 – 4:0PM Eastern. \nAs the name implies\, Hindu Heritage Day celebrates the rich cultural heritage of Hindus in America. This year’s festival has been themed “Contribution of the Hindu American”. The event consisted of fusion of music\, dance\, poster competition with cash prizes\, and a panel of top/Ivy League college student to discuss the college admission process for the benefit of high school students. And\, of course\, no Hindu Heritage Day will be complete without delicious food!. \nCapacity is limited\, so please register early to avoid disappointment. Separate registration is required for those who wish to participate in the poster competition. \n																\n															 \nTICKET: $10 (PER PERSON OF 12 OR MORE)\n            \n                    Buy Tickets\n	                         \nHighlights \nFood-Fair-Family-Fun\n\nPoster Competition with Prizes\nCultural Programmes\nPanel discussion for College Admission (By students of topnotch/Ivy League colleges)\n\nPoster Competition \n            \n                    Download poster competition rules\n	                        \n            \n                    Register to enter a Poster competition\n	                         \nContacts\n		Archna Kumar (732) 372-1911Arun Joshi \n(732) 820-0170Tejal Shah (201) 757-8491Ratna Parashar 609-481-7003Sanjay Gupta 646-228-1002 \nJai Bansal908-803-3523
URL:https://nj.vhp-america.org/event/5th-annual-hindu-heritage-day/
LOCATION:Vadtal Dham Temple\, 1667 Amwell Road\, Somerset\, New Jersay 08875
END:VEVENT
END:VCALENDAR